BEGIN:VCALENDAR
VERSION:2.0
PRODID:-//ΣΥΛΛΟΓΟΣ ΕΠΙΣΤΗΜΟΝΩΝ ΚΕΝΤΡΙΚΗΣ ΜΑΚΕΔΟΝΙΑΣ ΑΡΙΣΤΟΤΕΛΗΣ - ECPv6.15.15//NONSGML v1.0//EN
CALSCALE:GREGORIAN
METHOD:PUBLISH
X-ORIGINAL-URL:https://sekma.gr
X-WR-CALDESC:Events for ΣΥΛΛΟΓΟΣ ΕΠΙΣΤΗΜΟΝΩΝ ΚΕΝΤΡΙΚΗΣ ΜΑΚΕΔΟΝΙΑΣ ΑΡΙΣΤΟΤΕΛΗΣ
REFRESH-INTERVAL;VALUE=DURATION:PT1H
X-Robots-Tag:noindex
X-PUBLISHED-TTL:PT1H
BEGIN:VTIMEZONE
TZID:UTC
BEGIN:STANDARD
TZOFFSETFROM:+0000
TZOFFSETTO:+0000
TZNAME:UTC
DTSTART:20230101T000000
END:STANDARD
END:VTIMEZONE
BEGIN:VEVENT
DTSTART;TZID=UTC:20240108T180000
DTEND;TZID=UTC:20241222T210000
DTSTAMP:20260421T095310
CREATED:20230511T175850Z
LAST-MODIFIED:20230511T175927Z
UID:2788-1704736800-1734901200@sekma.gr
SUMMARY:ΕΤΗΣΙΟ ΕΚΠΑΙΔΕΥΤΙΚΟ ΠΡΟΓΡΑΜΜΑ-ΣΥΜΒΟΥΛΟΣ ΑΠΕΞΑΡΤΗΣΗΣ
DESCRIPTION:
URL:https://sekma.gr/event/%ce%b5%cf%84%ce%b7%cf%83%ce%b9%ce%bf-%ce%b5%ce%ba%cf%80%ce%b1%ce%b9%ce%b4%ce%b5%cf%85%cf%84%ce%b9%ce%ba%ce%bf-%cf%80%cf%81%ce%bf%ce%b3%cf%81%ce%b1%ce%bc%ce%bc%ce%b1-%cf%83%cf%85%ce%bc%ce%b2%ce%bf/
CATEGORIES:Σεμινάρια,Σύμβουλος Απεξάρτησης,Ψυχολογία
END:VEVENT
END:VCALENDAR